BEGIN:VCALENDAR
VERSION:2.0
PRODID:-//КДАіС
CALSCALE:GREGORIAN
METHOD:PUBLISH
X-WR-CALNAME:КДАіС
X-ORIGINAL-URL:https://kdais.kiev.ua/event/zustrich-20211412/
X-WR-CALDESC:Відбулась традиційна зустріч студентів КДАіС з духівниками Києво-Печерської Лаври
BEGIN:VEVENT
DTSTART:20211214T233000
DTEND:20211214T233000
SUMMARY:Відбулась традиційна зустріч студентів КДАіС з духівниками Києво-Печерської Лаври
DESCRIPTION:Під час зустрічі отці-духівники поділилися своїм багаторічним пастирським досвідом із майбутніми священнослужителями, а також відповіли на питання студентів.
LOCATION:
END:VEVENT
END:VCALENDAR
