BEGIN:VCALENDAR
VERSION:2.0
PRODID:-//КДАіС
CALSCALE:GREGORIAN
METHOD:PUBLISH
X-WR-CALNAME:КДАіС
X-ORIGINAL-URL:https://kdais.kiev.ua/event/chor-23122021/
X-WR-CALDESC:Хор КДА взяв участь в урочистостях в Мілані з нагоди дня пам&#8217;яті свт. Амвросія Медіоланського
BEGIN:VEVENT
DTSTART:20211223T233000
DTEND:20211223T233000
SUMMARY:Хор КДА взяв участь в урочистостях в Мілані з нагоди дня пам&#8217;яті свт. Амвросія Медіоланського
DESCRIPTION:Поїздка відбулась на запрошення настоятеля Свято-Амвросіївської парафії в Мілані архімандрита Амвросія (Макара) та з благословення ректора КДАіС єпископа Білогородського Сильвестра.
LOCATION:
END:VEVENT
END:VCALENDAR
