BEGIN:VCALENDAR
VERSION:2.0
PRODID:-//КДАіС
CALSCALE:GREGORIAN
METHOD:PUBLISH
X-WR-CALNAME:КДАіС
X-ORIGINAL-URL:https://kdais.kiev.ua/event/academ-01012022/
X-WR-CALDESC:Всенічне бдіння в Академічному храмі напередодні Неділі 28-ої після П’ятидесятниці
BEGIN:VEVENT
DTSTART:20220101T233000
DTEND:20220101T233000
SUMMARY:Всенічне бдіння в Академічному храмі напередодні Неділі 28-ої після П’ятидесятниці
DESCRIPTION:За богослужінням молились викладачі, співробітники, студенти і вихованці Київської духовної академії і семінарії, а також парафіяни храму та паломники Києво-Печерської Лаври.
LOCATION:
END:VEVENT
END:VCALENDAR
