BEGIN:VCALENDAR
VERSION:2.0
PRODID:-//КДАіС
CALSCALE:GREGORIAN
METHOD:PUBLISH
X-WR-CALNAME:КДАіС
X-ORIGINAL-URL:https://kdais.kiev.ua/event/propoved-rus-18012022/
X-WR-CALDESC:Какой смысл вложен в чин Великого освящения воды? Проповедь епископа Сильвестра (Стойчева) в праздник Богоявления Господня
BEGIN:VEVENT
DTSTART:20220118T233000
DTEND:20220118T233000
SUMMARY:Какой смысл вложен в чин Великого освящения воды? Проповедь епископа Сильвестра (Стойчева) в праздник Богоявления Господня
DESCRIPTION:Каждый раз, освящая воду, особенно в предпразднство или сам праздник Богоявления, мы соотносим себя с тем великим событием, совершенным на реке Иордан. В эти праздничные дни мы особо благодарим Господа за то, что нам возвращается обновленный мир.
LOCATION:
END:VEVENT
END:VCALENDAR
