BEGIN:VCALENDAR
VERSION:2.0
PRODID:-//КДАіС
CALSCALE:GREGORIAN
METHOD:PUBLISH
X-WR-CALNAME:КДАіС
X-ORIGINAL-URL:https://kdais.kiev.ua/event/publication-21012022/
X-WR-CALDESC:Преодоление разрыва между Московским Патриархатом и Русской Православной Церковью Заграницей как ложная аналогия в вопросе об украинских раскольниках
BEGIN:VEVENT
DTSTART:20220121T233000
DTEND:20220121T233000
SUMMARY:Преодоление разрыва между Московским Патриархатом и Русской Православной Церковью Заграницей как ложная аналогия в вопросе об украинских раскольниках
DESCRIPTION:Статья ректора Киевской духовной академии и семинарии епископа Белогородского Сильвестра, посвящённая каноническому анализу преодоления разрыва между Московской Патриархией и РПЦЗ. 
LOCATION:
END:VEVENT
END:VCALENDAR
