BEGIN:VCALENDAR
VERSION:2.0
PRODID:-//КДАіС
CALSCALE:GREGORIAN
METHOD:PUBLISH
X-WR-CALNAME:КДАіС
X-ORIGINAL-URL:https://kdais.kiev.ua/event/zahid-15022022/
X-WR-CALDESC:У Міжнародний день онкохворої дитини студенти КДАіС здали кров для онкохворих дітей
BEGIN:VEVENT
DTSTART:20220215T233000
DTEND:20220215T233000
SUMMARY:У Міжнародний день онкохворої дитини студенти КДАіС здали кров для онкохворих дітей
DESCRIPTION:Студенти відвідали Національну дитячу спеціалізовану лікарню МОЗ України "Охматдит" та Національний інститут раку, де стали донорами для пацієнтів, які потребують переливання крові.
LOCATION:
END:VEVENT
END:VCALENDAR
