BEGIN:VCALENDAR
VERSION:2.0
PRODID:-//КДАіС
CALSCALE:GREGORIAN
METHOD:PUBLISH
X-WR-CALNAME:КДАіС
X-ORIGINAL-URL:https://kdais.kiev.ua/event/kafedra-21022022-2/
X-WR-CALDESC:На кафедрі церковної історії заслухали звіти про стан випускних кваліфікаційних робіт студентів і вихованців КДАіС
BEGIN:VEVENT
DTSTART:20220221T233000
DTEND:20220221T233000
SUMMARY:На кафедрі церковної історії заслухали звіти про стан випускних кваліфікаційних робіт студентів і вихованців КДАіС
DESCRIPTION:Також були затверджені теми доповідей студентів магістратури денного відділення на ХІІ щорічну студентську конференцію "Студентська наука в духовній школі", що відбудеться 24 березня 2022 року.
LOCATION:
END:VEVENT
END:VCALENDAR
