BEGIN:VCALENDAR
VERSION:2.0
PRODID:-//КДАіС
CALSCALE:GREGORIAN
METHOD:PUBLISH
X-WR-CALNAME:КДАіС
X-ORIGINAL-URL:https://kdais.kiev.ua/event/liturhiya-rector-24022022/
X-WR-CALDESC:В Академії звершена нічна Літургія з молитвою за мир в Україні
BEGIN:VEVENT
DTSTART:20220224T233000
DTEND:20220224T233000
SUMMARY:В Академії звершена нічна Літургія з молитвою за мир в Україні
DESCRIPTION:У день пам’яті свт. Василія (Богдашевського), сповідника та сщмч. Леонтія Гримальського, пресвітера, ректор КДАіС звершив богослужіння в Академічному храмі.
LOCATION:
END:VEVENT
END:VCALENDAR
