BEGIN:VCALENDAR
VERSION:2.0
PRODID:-//КДАіС
CALSCALE:GREGORIAN
METHOD:PUBLISH
X-WR-CALNAME:КДАіС
X-ORIGINAL-URL:https://kdais.kiev.ua/event/novyna-28022022/
X-WR-CALDESC:Київська духовна академія допомагає військовослужбовцям Збройних Сил України
BEGIN:VEVENT
DTSTART:20220228T233000
DTEND:20220228T233000
SUMMARY:Київська духовна академія допомагає військовослужбовцям Збройних Сил України
DESCRIPTION:Гарячі обіди, свіжий власновипечений хліб та продукти були передані для потреб військовослужбовців до Головного військового клінічного госпіталю у м. Києві.
LOCATION:
END:VEVENT
END:VCALENDAR
