BEGIN:VCALENDAR
VERSION:2.0
PRODID:-//КДАіС
CALSCALE:GREGORIAN
METHOD:PUBLISH
X-WR-CALNAME:КДАіС
X-ORIGINAL-URL:https://kdais.kiev.ua/event/litiya-01032022/
X-WR-CALDESC:В КДА відслужена заупокійна літія за загиблими військовослужбовцями Збройних Сил України (+ВІДЕО)
BEGIN:VEVENT
DTSTART:20220301T233000
DTEND:20220301T233000
SUMMARY:В КДА відслужена заупокійна літія за загиблими військовослужбовцями Збройних Сил України (+ВІДЕО)
DESCRIPTION:Богослужіння в Академічному храмі на честь Різдва Пресвятої Богородиці звершив проректор з виховної роботи єпископ Згурівський Амвросій.
LOCATION:
END:VEVENT
END:VCALENDAR
