BEGIN:VCALENDAR
VERSION:2.0
PRODID:-//КДАіС
CALSCALE:GREGORIAN
METHOD:PUBLISH
X-WR-CALNAME:КДАіС
X-ORIGINAL-URL:https://kdais.kiev.ua/event/litiya-03032022/
X-WR-CALDESC:Викладачі та студенти КДА помолились за упокій полеглих військовослужбовців України
BEGIN:VEVENT
DTSTART:20220303T233000
DTEND:20220303T233000
SUMMARY:Викладачі та студенти КДА помолились за упокій полеглих військовослужбовців України
DESCRIPTION:Богослужіння очолив духівник та завідувач заочним відділенням архімандрит Маркел (Павук) у співслужінні старшого помічника проректора з виховної роботи архімандрита Володимира (Ціпіньо) та викладача архімандрита Пантелеімона (Мельника).
LOCATION:
END:VEVENT
END:VCALENDAR
