BEGIN:VCALENDAR
VERSION:2.0
PRODID:-//КДАіС
CALSCALE:GREGORIAN
METHOD:PUBLISH
X-WR-CALNAME:КДАіС
X-ORIGINAL-URL:https://kdais.kiev.ua/event/slovo-ukr-09032022/
X-WR-CALDESC:«Про пам&#8217;ять смертну — поняття, яке міцно увійшло до православної духовної літератури»
BEGIN:VEVENT
DTSTART:20220309T233000
DTEND:20220309T233000
SUMMARY:«Про пам&#8217;ять смертну — поняття, яке міцно увійшло до православної духовної літератури»
DESCRIPTION:Слово ректора Київської духовної академії і семінарії єпископа Білогородського Сильвестра після читання третьої частини Великого покаянного канону преподобного Андрія Критського.
LOCATION:
END:VEVENT
END:VCALENDAR
