BEGIN:VCALENDAR
VERSION:2.0
PRODID:-//КДАіС
CALSCALE:GREGORIAN
METHOD:PUBLISH
X-WR-CALNAME:КДАіС
X-ORIGINAL-URL:https://kdais.kiev.ua/event/sluzhba-kda-10032022/
X-WR-CALDESC:Уставне ранкове богослужіння в КДА у четвер першої седмиці Великого посту
BEGIN:VEVENT
DTSTART:20220310T000000
DTEND:20220310T000000
SUMMARY:Уставне ранкове богослужіння в КДА у четвер першої седмиці Великого посту
DESCRIPTION:Богослужіння в Академічному храмі на честь Різдва Божої Матері звершив проректор з виховної роботи єпископ Згурівський Амвросій.
LOCATION:
END:VEVENT
END:VCALENDAR
