BEGIN:VCALENDAR
VERSION:2.0
PRODID:-//КДАіС
CALSCALE:GREGORIAN
METHOD:PUBLISH
X-WR-CALNAME:КДАіС
X-ORIGINAL-URL:https://kdais.kiev.ua/event/slovo-rus-13032022/
X-WR-CALDESC:Слово епископа Белогородского Сильвестра в Неделю Торжества Православия
BEGIN:VEVENT
DTSTART:20220313T233000
DTEND:20220313T233000
SUMMARY:Слово епископа Белогородского Сильвестра в Неделю Торжества Православия
DESCRIPTION:Слово ректора Киевской духовной академии и семинарии епископа Белогородского Сильвестра в Неделю Торжества Православия.
LOCATION:
END:VEVENT
END:VCALENDAR
