BEGIN:VCALENDAR
VERSION:2.0
PRODID:-//КДАіС
CALSCALE:GREGORIAN
METHOD:PUBLISH
X-WR-CALNAME:КДАіС
X-ORIGINAL-URL:https://kdais.kiev.ua/event/litiya-13032022/
X-WR-CALDESC:У 71-й День народження спочилого ректора КДА протоієрея Миколая Забуги на його могилі відслужена заупокійна літія
BEGIN:VEVENT
DTSTART:20220313T233000
DTEND:20220313T233000
SUMMARY:У 71-й День народження спочилого ректора КДА протоієрея Миколая Забуги на його могилі відслужена заупокійна літія
DESCRIPTION:Богослужіння звершив завідувач бібліотекою та церковно-археологічним музеєм архімандрит Дамаскін (Лебедь).
LOCATION:
END:VEVENT
END:VCALENDAR
