BEGIN:VCALENDAR
VERSION:2.0
PRODID:-//КДАіС
CALSCALE:GREGORIAN
METHOD:PUBLISH
X-WR-CALNAME:КДАіС
X-ORIGINAL-URL:https://kdais.kiev.ua/event/slovo-ukr-13032022/
X-WR-CALDESC:Слово ректора КДАіС у Неділю Торжества Православ&#8217;я
BEGIN:VEVENT
DTSTART:20220313T233000
DTEND:20220313T233000
SUMMARY:Слово ректора КДАіС у Неділю Торжества Православ&#8217;я
DESCRIPTION:Слово ректора Київської духовної академії і семінарії єпископа Білогородського Сильвестра у Неділю Торжества Православ’я.
LOCATION:
END:VEVENT
END:VCALENDAR
