BEGIN:VCALENDAR
VERSION:2.0
PRODID:-//КДАіС
CALSCALE:GREGORIAN
METHOD:PUBLISH
X-WR-CALNAME:КДАіС
X-ORIGINAL-URL:https://kdais.kiev.ua/event/liturgy-16032022/
X-WR-CALDESC:Літургія Передосвячених Дарів у середу другої седмиці Великого посту
BEGIN:VEVENT
DTSTART:20220316T233000
DTEND:20220316T233000
SUMMARY:Літургія Передосвячених Дарів у середу другої седмиці Великого посту
DESCRIPTION:Богослужіння звершив Керуючий справами Української Православної Церкви митрополит Бориспільський і Броварський Антоній.
LOCATION:
END:VEVENT
END:VCALENDAR
