BEGIN:VCALENDAR
VERSION:2.0
PRODID:-//КДАіС
CALSCALE:GREGORIAN
METHOD:PUBLISH
X-WR-CALNAME:КДАіС
X-ORIGINAL-URL:https://kdais.kiev.ua/event/akafist-17032022/
X-WR-CALDESC:Ректор КДАіС звершив читання Акафіста свт. Миколаю Чудотворцю з колінопреклонною молитвою за мир в Україні (+ВІДЕО)
BEGIN:VEVENT
DTSTART:20220317T233000
DTEND:20220317T233000
SUMMARY:Ректор КДАіС звершив читання Акафіста свт. Миколаю Чудотворцю з колінопреклонною молитвою за мир в Україні (+ВІДЕО)
DESCRIPTION:Також архіпастир з духовенством помолились за здоров'я українських військовослужбовців.
LOCATION:
END:VEVENT
END:VCALENDAR
