BEGIN:VCALENDAR
VERSION:2.0
PRODID:-//КДАіС
CALSCALE:GREGORIAN
METHOD:PUBLISH
X-WR-CALNAME:КДАіС
X-ORIGINAL-URL:https://kdais.kiev.ua/event/parastas-18032022/
X-WR-CALDESC:Напередодні батьківської поминальної суботи в Академічному храмі звершено богослужіння з Парастасом
BEGIN:VEVENT
DTSTART:20220318T233000
DTEND:20220318T233000
SUMMARY:Напередодні батьківської поминальної суботи в Академічному храмі звершено богослужіння з Парастасом
DESCRIPTION:Заупокійне богослужіння звершив Керуючий справами Української Православної Церкви митрополит Бориспільський і Броварський Антоній, якому співслужили клірики Академічного храму.
LOCATION:
END:VEVENT
END:VCALENDAR
