BEGIN:VCALENDAR
VERSION:2.0
PRODID:-//КДАіС
CALSCALE:GREGORIAN
METHOD:PUBLISH
X-WR-CALNAME:КДАіС
X-ORIGINAL-URL:https://kdais.kiev.ua/event/bohosluzhinnya-kdais-21032022/
X-WR-CALDESC:Архієрейське богослужіння в Академії напередодні дня пам&#8217;яті 40 мучеників Севастійських
BEGIN:VEVENT
DTSTART:20220321T233000
DTEND:20220321T233000
SUMMARY:Архієрейське богослужіння в Академії напередодні дня пам&#8217;яті 40 мучеників Севастійських
DESCRIPTION:Богослужіння звершив Керуючий справами Української Православної Церкви митрополит Бориспільський і Броварський Антоній.
LOCATION:
END:VEVENT
END:VCALENDAR
