BEGIN:VCALENDAR
VERSION:2.0
PRODID:-//КДАіС
CALSCALE:GREGORIAN
METHOD:PUBLISH
X-WR-CALNAME:КДАіС
X-ORIGINAL-URL:https://kdais.kiev.ua/event/postryh-21032022/
X-WR-CALDESC:Ректор КДА звершив чернечий постриг студента ІІ курсу магістратури (+ВІДЕО)
BEGIN:VEVENT
DTSTART:20220321T233000
DTEND:20220321T233000
SUMMARY:Ректор КДА звершив чернечий постриг студента ІІ курсу магістратури (+ВІДЕО)
DESCRIPTION:У постризі студент ІІ курсу магістратури КДА Микита Міронов отримав ім'я із Собору святих Київської духовної академії — Іоасаф, на честь святителя Іоасафа Білгородського (день пам'яті — 17 вересня та 23 грудня).
LOCATION:
END:VEVENT
END:VCALENDAR
