BEGIN:VCALENDAR
VERSION:2.0
PRODID:-//КДАіС
CALSCALE:GREGORIAN
METHOD:PUBLISH
X-WR-CALNAME:КДАіС
X-ORIGINAL-URL:https://kdais.kiev.ua/event/40-muchenykiv-22032022/
X-WR-CALDESC:День пам’яті 40 Севастійських мучеників (+великий фоторепортаж)
BEGIN:VEVENT
DTSTART:20220322T233000
DTEND:20220322T233000
SUMMARY:День пам’яті 40 Севастійських мучеників (+великий фоторепортаж)
DESCRIPTION:Богослужіння звершили Керуючий справами Української Православної Церкви митрополит Бориспільський і Броварський Антоній, ректор Київської духовної академії і семінарії єпископ Білогородський Сильвестр та проректор з виховної роботи єпископ Згурівський Амвросій.
LOCATION:
END:VEVENT
END:VCALENDAR
