BEGIN:VCALENDAR
VERSION:2.0
PRODID:-//КДАіС
CALSCALE:GREGORIAN
METHOD:PUBLISH
X-WR-CALNAME:КДАіС
X-ORIGINAL-URL:https://kdais.kiev.ua/event/dopomoha-kdais-22032022/
X-WR-CALDESC:Київські духовні школи продовжують надавати допомогу нужденним у період війни
BEGIN:VEVENT
DTSTART:20220322T233000
DTEND:20220322T233000
SUMMARY:Київські духовні школи продовжують надавати допомогу нужденним у період війни
DESCRIPTION:Доцент КДА протоієрей Сергій Вейго, настоятель храму на честь Єрусалимської ікони Божої Матері в Голосіївському районі м. Києва, активно допомагає нужденним ліками та продуктами.
LOCATION:
END:VEVENT
END:VCALENDAR
