BEGIN:VCALENDAR
VERSION:2.0
PRODID:-//КДАіС
CALSCALE:GREGORIAN
METHOD:PUBLISH
X-WR-CALNAME:КДАіС
X-ORIGINAL-URL:https://kdais.kiev.ua/event/liturhiya-kdais-23032022/
X-WR-CALDESC:Літургія Передосвячених Дарів у середу третьої седмиці Великого посту
BEGIN:VEVENT
DTSTART:20220323T233000
DTEND:20220323T233000
SUMMARY:Літургія Передосвячених Дарів у середу третьої седмиці Великого посту
DESCRIPTION:Богослужіння в Академічному храмі на честь Різдва Божої Матері звершив Керуючий справами Української Православної Церкви митрополит Бориспільський і Броварський Антоній.
LOCATION:
END:VEVENT
END:VCALENDAR
