BEGIN:VCALENDAR
VERSION:2.0
PRODID:-//КДАіС
CALSCALE:GREGORIAN
METHOD:PUBLISH
X-WR-CALNAME:КДАіС
X-ORIGINAL-URL:https://kdais.kiev.ua/event/litiya-kdais-23032022/
X-WR-CALDESC:Академія продовжує молитись за упокій полеглих захисників України
BEGIN:VEVENT
DTSTART:20220323T233000
DTEND:20220323T233000
SUMMARY:Академія продовжує молитись за упокій полеглих захисників України
DESCRIPTION:Заупокійна літія була звершена за полеглими військовослужбовцями Збройних Сил України та за усіма православними християнами, хто загинув внаслідок бойових дій з військами Російської Федерації.
LOCATION:
END:VEVENT
END:VCALENDAR
