BEGIN:VCALENDAR
VERSION:2.0
PRODID:-//КДАіС
CALSCALE:GREGORIAN
METHOD:PUBLISH
X-WR-CALNAME:КДАіС
X-ORIGINAL-URL:https://kdais.kiev.ua/event/publication-08042022/
X-WR-CALDESC:«Радуйся Невесто Неневестная» — слова, кратко выражающие учение Православной Церкви о Деве Марии как Матери и Приснодеве
BEGIN:VEVENT
DTSTART:20220408T233000
DTEND:20220408T233000
SUMMARY:«Радуйся Невесто Неневестная» — слова, кратко выражающие учение Православной Церкви о Деве Марии как Матери и Приснодеве
DESCRIPTION:Слово ректора Киевской духовной академии и семинарии епископа Белогородского Сильвестра.
LOCATION:
END:VEVENT
END:VCALENDAR
