BEGIN:VCALENDAR
VERSION:2.0
PRODID:-//КДАіС
CALSCALE:GREGORIAN
METHOD:PUBLISH
X-WR-CALNAME:КДАіС
X-ORIGINAL-URL:https://kdais.kiev.ua/event/moleben-12042022/
X-WR-CALDESC:Водосвятний молебень з молитвою за мир в Україні та здоров&#8217;я українських захисників
BEGIN:VEVENT
DTSTART:20220412T233000
DTEND:20220412T233000
SUMMARY:Водосвятний молебень з молитвою за мир в Україні та здоров&#8217;я українських захисників
DESCRIPTION:З благословення ректора Київської духовної академії і семінарії єпископа Білогородського Сильвестра, в Київських духовних школах продовжує лунати молитва за мир в Україні, здоров'я українських захисників та усіх, хто постраждав внаслідок війни Росії проти України.
LOCATION:
END:VEVENT
END:VCALENDAR
