BEGIN:VCALENDAR
VERSION:2.0
PRODID:-//КДАіС
CALSCALE:GREGORIAN
METHOD:PUBLISH
X-WR-CALNAME:КДАіС
X-ORIGINAL-URL:https://kdais.kiev.ua/event/dopomoha-12042022/
X-WR-CALDESC:Проректор КДА супроводжував та передав гуманітарну допомогу від Польської Православної Церкви постраждалим жителям в Баришівській СТГ
BEGIN:VEVENT
DTSTART:20220412T233000
DTEND:20220412T233000
SUMMARY:Проректор КДА супроводжував та передав гуманітарну допомогу від Польської Православної Церкви постраждалим жителям в Баришівській СТГ
DESCRIPTION:Перший проректор протоієрей Сергій Ющик разом зі священиком Іоанном Піпашем доставили гуманітарну допомогу від Польської Православної Церкви постраждалим мирним жителям в села Рудницьке, Лук'янівка та Перемога Баришівської селищної територіальної громади.
LOCATION:
END:VEVENT
END:VCALENDAR
