BEGIN:VCALENDAR
VERSION:2.0
PRODID:-//КДАіС
CALSCALE:GREGORIAN
METHOD:PUBLISH
X-WR-CALNAME:КДАіС
X-ORIGINAL-URL:https://kdais.kiev.ua/event/liturgy-25042022/
X-WR-CALDESC:Ректор КДА привітав з Пасхою кліриків та парафіян Академічного храму Різдва Божої Матері
BEGIN:VEVENT
DTSTART:20220425T233000
DTEND:20220425T233000
SUMMARY:Ректор КДА привітав з Пасхою кліриків та парафіян Академічного храму Різдва Божої Матері
DESCRIPTION:Після Євхаристичного канону владика ректор рукоположив у сан ієродиякона студента ІІ курса магістратури КДА монаха Іоасафа (Міронова).
LOCATION:
END:VEVENT
END:VCALENDAR
