BEGIN:VCALENDAR
VERSION:2.0
PRODID:-//КДАіС
CALSCALE:GREGORIAN
METHOD:PUBLISH
X-WR-CALNAME:КДАіС
X-ORIGINAL-URL:https://kdais.kiev.ua/event/nedilia-08052022/
X-WR-CALDESC:Неділя 3-тя після Пасхи, жінок-мироносиць, апостола і євангеліста Марка
BEGIN:VEVENT
DTSTART:20220508T233000
DTEND:20220508T233000
SUMMARY:Неділя 3-тя після Пасхи, жінок-мироносиць, апостола і євангеліста Марка
DESCRIPTION:Богослужіння в Академічному храмі очолив архімандрит Маркел (Павук).
LOCATION:
END:VEVENT
END:VCALENDAR
