BEGIN:VCALENDAR
VERSION:2.0
PRODID:-//КДАіС
CALSCALE:GREGORIAN
METHOD:PUBLISH
X-WR-CALNAME:КДАіС
X-ORIGINAL-URL:https://kdais.kiev.ua/event/pokladannya-kvitiv-09052022/
X-WR-CALDESC:Ректор, викладачі та студенти КДА поклали квіти до могили Невідомого солдата у Парку Слави (+ВІДЕО)
BEGIN:VEVENT
DTSTART:20220509T233000
DTEND:20220509T233000
SUMMARY:Ректор, викладачі та студенти КДА поклали квіти до могили Невідомого солдата у Парку Слави (+ВІДЕО)
DESCRIPTION:Після покладання квітів архієреї та священнослужителі проспівали “Вічну пам’ять” і тропар Воскресіння Христового.
LOCATION:
END:VEVENT
END:VCALENDAR
