BEGIN:VCALENDAR
VERSION:2.0
PRODID:-//КДАіС
CALSCALE:GREGORIAN
METHOD:PUBLISH
X-WR-CALNAME:КДАіС
X-ORIGINAL-URL:https://kdais.kiev.ua/event/liturgy-19062022/
X-WR-CALDESC:Неділя 1-ша після П’ятидесятниці, Всіх святих
BEGIN:VEVENT
DTSTART:20220619T233000
DTEND:20220619T233000
SUMMARY:Неділя 1-ша після П’ятидесятниці, Всіх святих
DESCRIPTION:Під час Літургії були піднесені прохання про мир на українській землі, про позбавлення від ворога, щоб Господь зглянувся на наш народ і зберіг тих, хто у відчаї і втратив домівки, щоб Господь благословив людей доброї волі, які допомагають нужденним.
LOCATION:
END:VEVENT
END:VCALENDAR
