BEGIN:VCALENDAR
VERSION:2.0
PRODID:-//КДАіС
CALSCALE:GREGORIAN
METHOD:PUBLISH
X-WR-CALNAME:КДАіС
X-ORIGINAL-URL:https://kdais.kiev.ua/event/propovid-ukr-26062022/
X-WR-CALDESC:Проповідь у Неділю 2-гу після П&#8217;ятидесятниці про покликання апостолів
BEGIN:VEVENT
DTSTART:20220626T233000
DTEND:20220626T233000
SUMMARY:Проповідь у Неділю 2-гу після П&#8217;ятидесятниці про покликання апостолів
DESCRIPTION:Проповідь ректора Київської духовної академії і семінарії єпископа Білогородського Сильвестра у Неділю 2-гу після П'ятидесятниці.
LOCATION:
END:VEVENT
END:VCALENDAR
