BEGIN:VCALENDAR
VERSION:2.0
PRODID:-//КДАіС
CALSCALE:GREGORIAN
METHOD:PUBLISH
X-WR-CALNAME:КДАіС
X-ORIGINAL-URL:https://kdais.kiev.ua/event/stattya-04072022/
X-WR-CALDESC:Як говорити про Бога під час війни? | &#8220;Академический Летописец&#8221;
BEGIN:VEVENT
DTSTART:20220704T233000
DTEND:20220704T233000
SUMMARY:Як говорити про Бога під час війни? | &#8220;Академический Летописец&#8221;
DESCRIPTION:Стаття вихованця 3-го класу Київської духовної семінарії Святослава Мішіндура для журналу "Академический Летописец" №30 (2022).
LOCATION:
END:VEVENT
END:VCALENDAR
