BEGIN:VCALENDAR
VERSION:2.0
PRODID:-//КДАіС
CALSCALE:GREGORIAN
METHOD:PUBLISH
X-WR-CALNAME:КДАіС
X-ORIGINAL-URL:https://kdais.kiev.ua/event/propoved-rus-07072023/
X-WR-CALDESC:Проповедь архиепископа Белогородского Сильвестра в праздник Рождества Иоанна Предтечи
BEGIN:VEVENT
DTSTART:20230707T233000
DTEND:20230707T233000
SUMMARY:Проповедь архиепископа Белогородского Сильвестра в праздник Рождества Иоанна Предтечи
DESCRIPTION:Проповедь ректора Киевской духовной академии и семинарии архиепископа Белогородского Сильвестра в праздник Рождества Честного Славного Пророка, Предтечи и Крестителя Господня Иоанна.
LOCATION:
END:VEVENT
END:VCALENDAR
