BEGIN:VCALENDAR
VERSION:2.0
PRODID:-//КДАіС
CALSCALE:GREGORIAN
METHOD:PUBLISH
X-WR-CALNAME:КДАіС
X-ORIGINAL-URL:https://kdais.kiev.ua/event/propovid-ukr-07072023/
X-WR-CALDESC:Проповідь архієпископа Білогородського Сильвестра у день свята Різдва Іоанна Предтечі
BEGIN:VEVENT
DTSTART:20230707T233000
DTEND:20230707T233000
SUMMARY:Проповідь архієпископа Білогородського Сильвестра у день свята Різдва Іоанна Предтечі
DESCRIPTION:Проповідь ректора Київської духовної академії і семінарії архієпископа Білогородського Сильвестра у свято Різдва Чесного Славного Пророка, Предтечі та Хрестителя Господнього Іоанна.
LOCATION:
END:VEVENT
END:VCALENDAR
