BEGIN:VCALENDAR
VERSION:2.0
PRODID:-//КДАіС
CALSCALE:GREGORIAN
METHOD:PUBLISH
X-WR-CALNAME:КДАіС
X-ORIGINAL-URL:https://kdais.kiev.ua/event/12072022-rectorkda/
X-WR-CALDESC:У день пам’яті первоверховних апостолів Петра і Павла єпископ Сильвестр співслужив Предстоятелю УПЦ за богослужінням у Києво-Печерській Лаврі
BEGIN:VEVENT
DTSTART:20220712T233000
DTEND:20220712T233000
SUMMARY:У день пам’яті первоверховних апостолів Петра і Павла єпископ Сильвестр співслужив Предстоятелю УПЦ за богослужінням у Києво-Печерській Лаврі
DESCRIPTION:За Божественною літургією в Успенському соборі Свято-Успенської Києво-Печерської Лаври Його Блаженству також співслужили архіпастирі Української Православної Церкви, братія Лаври та гості у священному сані.
LOCATION:
END:VEVENT
END:VCALENDAR
