BEGIN:VCALENDAR
VERSION:2.0
PRODID:-//КДАіС
CALSCALE:GREGORIAN
METHOD:PUBLISH
X-WR-CALNAME:КДАіС
X-ORIGINAL-URL:https://kdais.kiev.ua/event/02082022-ekzameny/
X-WR-CALDESC:Завершився другий екзаменаційний день вступної кампанії в КДАіС (ФОТОРЕПОРТАЖ)
BEGIN:VEVENT
DTSTART:20220802T233000
DTEND:20220802T233000
SUMMARY:Завершився другий екзаменаційний день вступної кампанії в КДАіС (ФОТОРЕПОРТАЖ)
DESCRIPTION:До екзаменаційної комісії під головуванням ректора КДАіС єпископа Білогородського Сильвестра також увійшли голова Учбового комітету при Священному Синоді УПЦ професор митрополит Ніжинський і Прилуцький Климент та інші члени професорсько-викладацької корпорації.
LOCATION:
END:VEVENT
END:VCALENDAR
