BEGIN:VCALENDAR
VERSION:2.0
PRODID:-//КДАіС
CALSCALE:GREGORIAN
METHOD:PUBLISH
X-WR-CALNAME:КДАіС
X-ORIGINAL-URL:https://kdais.kiev.ua/event/vitannya05082022/
X-WR-CALDESC:Вітаємо професора Сергія Михайловича Бортника з Днем народження!
BEGIN:VEVENT
DTSTART:20220805T233000
DTEND:20220805T233000
SUMMARY:Вітаємо професора Сергія Михайловича Бортника з Днем народження!
DESCRIPTION:Молитовно бажаємо Вам мирного неба, сімейного затишку, міцного здоров’я і довголіття. 
LOCATION:
END:VEVENT
END:VCALENDAR
