BEGIN:VCALENDAR
VERSION:2.0
PRODID:-//КДАіС
CALSCALE:GREGORIAN
METHOD:PUBLISH
X-WR-CALNAME:КДАіС
X-ORIGINAL-URL:https://kdais.kiev.ua/event/2022-06-08/
X-WR-CALDESC:На засіданні Вченої ради КДА підведені підсумки вступної кампанії 2022 року
BEGIN:VEVENT
DTSTART:20220806T233000
DTEND:20220806T233000
SUMMARY:На засіданні Вченої ради КДА підведені підсумки вступної кампанії 2022 року
DESCRIPTION:За результатами вступних іспитів до Київських духовних шкіл на денне відділення Київської духовної семінарії зараховані — 54 абітурієнти, в Київську духовну академію — 29. На заочне відділення Семінарії — 56 абітурієнтів, а в Академію — 41.
LOCATION:
END:VEVENT
END:VCALENDAR
