BEGIN:VCALENDAR
VERSION:2.0
PRODID:-//КДАіС
CALSCALE:GREGORIAN
METHOD:PUBLISH
X-WR-CALNAME:КДАіС
X-ORIGINAL-URL:https://kdais.kiev.ua/event/09-08-2022-kda/
X-WR-CALDESC:День пам’яті великомученика і цілителя Пантелеімона
BEGIN:VEVENT
DTSTART:20220809T233000
DTEND:20220809T233000
SUMMARY:День пам’яті великомученика і цілителя Пантелеімона
DESCRIPTION:Богослужіння очолив викладач архімандрит Пантелеімон (Мельник) у співслужінні кліриків храму.
LOCATION:
END:VEVENT
END:VCALENDAR
