BEGIN:VCALENDAR
VERSION:2.0
PRODID:-//КДАіС
CALSCALE:GREGORIAN
METHOD:PUBLISH
X-WR-CALNAME:КДАіС
X-ORIGINAL-URL:https://kdais.kiev.ua/event/propoved-06082023/
X-WR-CALDESC:Проповедь архиепископа Белогородского Сильвестра в Неделю 9-ю по Пятидесятнице
BEGIN:VEVENT
DTSTART:20230806T233000
DTEND:20230806T233000
SUMMARY:Проповедь архиепископа Белогородского Сильвестра в Неделю 9-ю по Пятидесятнице
DESCRIPTION:Воскресная проповедь ректора Киевской духовной академии и семинарии архиепископа Белогородского Сильвестра на Евангелие от Матфея (14:22-34).
LOCATION:
END:VEVENT
END:VCALENDAR
