BEGIN:VCALENDAR
VERSION:2.0
PRODID:-//КДАіС
CALSCALE:GREGORIAN
METHOD:PUBLISH
X-WR-CALNAME:КДАіС
X-ORIGINAL-URL:https://kdais.kiev.ua/event/28082022-2/
X-WR-CALDESC:Архієпископ Сильвестр очолив престольне свято Свято-Успенського храму у Дарницькому районі столиці
BEGIN:VEVENT
DTSTART:20220828T233000
DTEND:20220828T233000
SUMMARY:Архієпископ Сильвестр очолив престольне свято Свято-Успенського храму у Дарницькому районі столиці
DESCRIPTION:Наприкінці богослужіння перед Плащаницею Божої Матері було звершено чин славління, після чого Його Високопреосвященство привітав настоятеля, духовенство та парафіян храму з престольним святом та передав благословення Блаженнішого Митрополита Онуфрія.
LOCATION:
END:VEVENT
END:VCALENDAR
