BEGIN:VCALENDAR
VERSION:2.0
PRODID:-//КДАіС
CALSCALE:GREGORIAN
METHOD:PUBLISH
X-WR-CALNAME:КДАіС
X-ORIGINAL-URL:https://kdais.kiev.ua/event/09092022/
X-WR-CALDESC:В КДАіС звершено Всенічне бдіння напередодні дня пам’яті Собору преподобних отців, які у Дальніх печерах спочивають
BEGIN:VEVENT
DTSTART:20220909T233000
DTEND:20220909T233000
SUMMARY:В КДАіС звершено Всенічне бдіння напередодні дня пам’яті Собору преподобних отців, які у Дальніх печерах спочивають
DESCRIPTION:Богослужіння в Академічному храмі на честь Різдва Божої Матері очолив духівник архімандрит Маркел (Павук).
LOCATION:
END:VEVENT
END:VCALENDAR
