BEGIN:VCALENDAR
VERSION:2.0
PRODID:-//КДАіС
CALSCALE:GREGORIAN
METHOD:PUBLISH
X-WR-CALNAME:КДАіС
X-ORIGINAL-URL:https://kdais.kiev.ua/event/vitannya/
X-WR-CALDESC:Вітаємо викладача ієрея Феодосія Попдякуника з Днем народження!
BEGIN:VEVENT
DTSTART:20220921T233000
DTEND:20220921T233000
SUMMARY:Вітаємо викладача ієрея Феодосія Попдякуника з Днем народження!
DESCRIPTION:У цей святковий день молитовно бажаємо Вам мирного неба, сімейного благополуччя, міцного здоров’я і довголіття.
LOCATION:
END:VEVENT
END:VCALENDAR
