BEGIN:VCALENDAR
VERSION:2.0
PRODID:-//КДАіС
CALSCALE:GREGORIAN
METHOD:PUBLISH
X-WR-CALNAME:КДАіС
X-ORIGINAL-URL:https://kdais.kiev.ua/event/26092022-2/
X-WR-CALDESC:Архієпископ Сильвестр співслужив Предстоятелю УПЦ за богослужінням напередодні свята Воздвиження Хреста Господнього
BEGIN:VEVENT
DTSTART:20220926T233000
DTEND:20220926T233000
SUMMARY:Архієпископ Сильвестр співслужив Предстоятелю УПЦ за богослужінням напередодні свята Воздвиження Хреста Господнього
DESCRIPTION:Всенічне бдіння було звершено в Успенському соборі Свято-Успенської Києво-Печерської Лаври.
LOCATION:
END:VEVENT
END:VCALENDAR
