BEGIN:VCALENDAR
VERSION:2.0
PRODID:-//КДАіС
CALSCALE:GREGORIAN
METHOD:PUBLISH
X-WR-CALNAME:КДАіС
X-ORIGINAL-URL:https://kdais.kiev.ua/event/29092022/
X-WR-CALDESC:Служіння ректора КДАіС у день вшанування ікони Божої Матері, іменованої «Призри на смирення»
BEGIN:VEVENT
DTSTART:20220929T233000
DTEND:20220929T233000
SUMMARY:Служіння ректора КДАіС у день вшанування ікони Божої Матері, іменованої «Призри на смирення»
DESCRIPTION:Ректор Київської духовної академії і семінарії архієпископ Білогородський Сильвестр взяв участь у соборній Божественній літургії у Свято-Введенському чоловічому монастирі м. Києва.
LOCATION:
END:VEVENT
END:VCALENDAR
