BEGIN:VCALENDAR
VERSION:2.0
PRODID:-//КДАіС
CALSCALE:GREGORIAN
METHOD:PUBLISH
X-WR-CALNAME:КДАіС
X-ORIGINAL-URL:https://kdais.kiev.ua/event/30092022/
X-WR-CALDESC:До Дня молитви за сиріт в Українській Православній Церкві ректор КДАіС звершив молебень в Академічному храмі (+ТЕКСТ МОЛИТВ)
BEGIN:VEVENT
DTSTART:20220930T233000
DTEND:20220930T233000
SUMMARY:До Дня молитви за сиріт в Українській Православній Церкві ректор КДАіС звершив молебень в Академічному храмі (+ТЕКСТ МОЛИТВ)
DESCRIPTION:День молитви за сиріт в УПЦ звершується у день пам’яті мучениць Віри, Надії, Любові та матері їхньої Софії згідно з рішенням Священного Синоду УПЦ від 27 грудня 2021 року (журнал №42).
LOCATION:
END:VEVENT
END:VCALENDAR
