BEGIN:VCALENDAR
VERSION:2.0
PRODID:-//КДАіС
CALSCALE:GREGORIAN
METHOD:PUBLISH
X-WR-CALNAME:КДАіС
X-ORIGINAL-URL:https://kdais.kiev.ua/event/03102022/
X-WR-CALDESC:Ректор КДАіС очолив престольне свято столичного храму на честь прп. кн. Олега Брянського
BEGIN:VEVENT
DTSTART:20221003T233000
DTEND:20221003T233000
SUMMARY:Ректор КДАіС очолив престольне свято столичного храму на честь прп. кн. Олега Брянського
DESCRIPTION:Його Високопреосвященству за богослужінням співслужив протоієрей Всеволод Рибчинський, настоятель храму протоієрей Олексій Кірєєв, духовенство та гості храму у священному сані.
LOCATION:
END:VEVENT
END:VCALENDAR
