BEGIN:VCALENDAR
VERSION:2.0
PRODID:-//КДАіС
CALSCALE:GREGORIAN
METHOD:PUBLISH
X-WR-CALNAME:КДАіС
X-ORIGINAL-URL:https://kdais.kiev.ua/event/08102022/
X-WR-CALDESC:Богослужіння в КДА напередодні Неділі 17-ої після П&#8217;ятидесятниці та дня пам’яті святого апостола і євангеліста Iоанна Богослова
BEGIN:VEVENT
DTSTART:20221008T233000
DTEND:20221008T233000
SUMMARY:Богослужіння в КДА напередодні Неділі 17-ої після П&#8217;ятидесятниці та дня пам’яті святого апостола і євангеліста Iоанна Богослова
DESCRIPTION:В Академічному храмі на честь Різдва Божої Матері було відслужено Всенічне бдіння, яке очолив духівник та завідувач заочним відділенням архімандрит Маркел (Павук) у співслужінні членів адміністрації, викладачів та студентів Київських духовних шкіл у священному сані.
LOCATION:
END:VEVENT
END:VCALENDAR
